Package: sRACIPE Version: 1.22.0 Command: /home/biocbuild/R/R/bin/R CMD INSTALL sRACIPE StartedAt: 2025-03-31 20:42:38 -0000 (Mon, 31 Mar 2025) EndedAt: 2025-03-31 20:43:32 -0000 (Mon, 31 Mar 2025) EllapsedTime: 54.2 seconds RetCode: 0 Status: OK