Package: rtracklayer Version: 1.66.0 Command: /home/biocbuild/R/R/bin/R CMD INSTALL rtracklayer StartedAt: 2025-03-31 20:28:19 -0000 (Mon, 31 Mar 2025) EndedAt: 2025-03-31 20:29:25 -0000 (Mon, 31 Mar 2025) EllapsedTime: 66.5 seconds RetCode: 0 Status: OK