Package: rsemmed Version: 1.16.0 Command: /home/biocbuild/R/R/bin/R CMD build --keep-empty-dirs --no-resave-data rsemmed StartedAt: 2025-04-01 02:14:21 -0000 (Tue, 01 Apr 2025) EndedAt: 2025-04-01 02:14:49 -0000 (Tue, 01 Apr 2025) EllapsedTime: 28.0 seconds RetCode: 0 Status: OK PackageFile: rsemmed_1.16.0.tar.gz PackageFileSize: 1.861 MiB