Package: rsemmed Version: 1.16.0 Command: chmod a+r rsemmed -R && F:\biocbuild\bbs-3.20-bioc\R\bin\R.exe CMD build --keep-empty-dirs --no-resave-data rsemmed StartedAt: 2025-03-31 21:34:38 -0400 (Mon, 31 Mar 2025) EndedAt: 2025-03-31 21:35:25 -0400 (Mon, 31 Mar 2025) EllapsedTime: 47.2 seconds RetCode: 0 Status: OK PackageFile: rsemmed_1.16.0.tar.gz PackageFileSize: 1.752 MiB