Package: rsemmed Version: 1.16.0 Command: rm -rf rsemmed.buildbin-libdir && mkdir rsemmed.buildbin-libdir && F:\biocbuild\bbs-3.20-bioc\R\bin\R.exe CMD INSTALL --build --library=rsemmed.buildbin-libdir rsemmed_1.16.0.tar.gz StartedAt: 2025-04-01 09:05:50 -0400 (Tue, 01 Apr 2025) EndedAt: 2025-04-01 09:06:15 -0400 (Tue, 01 Apr 2025) EllapsedTime: 24.9 seconds RetCode: 0 Status: OK PackageFile: rsemmed_1.16.0.zip PackageFileSize: 1.791 MiB