Package: rsemmed Version: 1.16.0 Command: /Library/Frameworks/R.framework/Resources/bin/R CMD build --keep-empty-dirs --no-resave-data rsemmed StartedAt: 2025-04-01 06:36:41 -0400 (Tue, 01 Apr 2025) EndedAt: 2025-04-01 06:37:08 -0400 (Tue, 01 Apr 2025) EllapsedTime: 27.2 seconds RetCode: 0 Status: OK PackageFile: rsemmed_1.16.0.tar.gz PackageFileSize: 2.175 MiB