Package: rsemmed Version: 1.16.0 Command: rm -rf rsemmed.buildbin-libdir && mkdir rsemmed.buildbin-libdir && /Users/biocbuild/BBS/utils/build-universal.sh rsemmed_1.16.0.tar.gz /Library/Frameworks/R.framework/Resources/bin/R rsemmed.buildbin-libdir StartedAt: 2025-04-02 16:04:54 -0400 (Wed, 02 Apr 2025) EndedAt: 2025-04-02 16:05:01 -0400 (Wed, 02 Apr 2025) EllapsedTime: 6.7 seconds RetCode: 0 Status: OK PackageFile: rsemmed_1.16.0.tgz PackageFileSize: 2.208 MiB