Package: rsbml Version: 2.64.0 Command: /home/biocbuild/R/R/bin/R CMD INSTALL rsbml StartedAt: 2025-03-31 20:14:10 -0000 (Mon, 31 Mar 2025) EndedAt: 2025-03-31 20:14:26 -0000 (Mon, 31 Mar 2025) EllapsedTime: 16.1 seconds RetCode: 1 Status: ERROR