Package: rsbml Version: 2.64.0 Command: /home/biocbuild/R/R/bin/R CMD build --keep-empty-dirs --no-resave-data rsbml StartedAt: 2025-04-01 02:14:09 -0000 (Tue, 01 Apr 2025) EndedAt: 2025-04-01 02:14:12 -0000 (Tue, 01 Apr 2025) EllapsedTime: 3.0 seconds RetCode: 1 Status: ERROR PackageFile: None PackageFileSize: NA