Package: rsbml Version: 2.64.0 Command: F:\biocbuild\bbs-3.20-bioc\R\bin\R.exe CMD INSTALL rsbml StartedAt: 2025-03-31 15:26:01 -0400 (Mon, 31 Mar 2025) EndedAt: 2025-03-31 15:29:49 -0400 (Mon, 31 Mar 2025) EllapsedTime: 227.6 seconds RetCode: 0 Status: OK