Package: rrvgo Version: 1.18.0 Command: /home/biocbuild/R/R/bin/R CMD INSTALL rrvgo StartedAt: 2025-03-31 20:44:39 -0000 (Mon, 31 Mar 2025) EndedAt: 2025-03-31 20:45:04 -0000 (Mon, 31 Mar 2025) EllapsedTime: 25.3 seconds RetCode: 0 Status: OK