Package: rrvgo Version: 1.18.0 Command: /Library/Frameworks/R.framework/Resources/bin/R CMD check --install=check:rrvgo.install-out.txt --library=/Library/Frameworks/R.framework/Resources/library --no-vignettes --timings rrvgo_1.18.0.tar.gz StartedAt: 2025-04-01 08:21:42 -0400 (Tue, 01 Apr 2025) EndedAt: 2025-04-01 09:01:43 -0400 (Tue, 01 Apr 2025) EllapsedTime: 2401.0 seconds RetCode: None Status: TIMEOUT CheckDir: rrvgo.Rcheck Warnings: NA