Package: rqubic Version: 1.52.0 Command: chmod a+r rqubic -R && F:\biocbuild\bbs-3.20-bioc\R\bin\R.exe CMD build --keep-empty-dirs --no-resave-data rqubic StartedAt: 2025-03-31 21:34:03 -0400 (Mon, 31 Mar 2025) EndedAt: 2025-03-31 21:35:06 -0400 (Mon, 31 Mar 2025) EllapsedTime: 63.4 seconds RetCode: 0 Status: OK PackageFile: rqubic_1.52.0.tar.gz PackageFileSize: 189.8 KiB