Package: rqt Version: 1.32.0 Command: /home/biocbuild/R/R/bin/R CMD check --install=check:rqt.install-out.txt --library=/home/biocbuild/R/R/site-library --no-vignettes --timings rqt_1.32.0.tar.gz StartedAt: 2025-04-01 10:11:32 -0000 (Tue, 01 Apr 2025) EndedAt: 2025-04-01 10:14:58 -0000 (Tue, 01 Apr 2025) EllapsedTime: 206.4 seconds RetCode: 0 Status: OK CheckDir: rqt.Rcheck Warnings: 0