Package: rpx Version: 2.14.1 Command: /home/biocbuild/R/R/bin/R CMD INSTALL rpx StartedAt: 2025-03-31 20:25:20 -0000 (Mon, 31 Mar 2025) EndedAt: 2025-03-31 20:25:35 -0000 (Mon, 31 Mar 2025) EllapsedTime: 14.2 seconds RetCode: 0 Status: OK