Package: rpx Version: 2.14.1 Command: F:\biocbuild\bbs-3.20-bioc\R\bin\R.exe CMD INSTALL rpx StartedAt: 2025-03-31 15:37:29 -0400 (Mon, 31 Mar 2025) EndedAt: 2025-03-31 15:37:46 -0400 (Mon, 31 Mar 2025) EllapsedTime: 16.2 seconds RetCode: 0 Status: OK