Package: rpx Version: 2.14.1 Command: F:\biocbuild\bbs-3.20-bioc\R\bin\R.exe CMD check --no-multiarch --install=check:rpx.install-out.txt --library=F:\biocbuild\bbs-3.20-bioc\R\library --no-vignettes --timings rpx_2.14.1.tar.gz StartedAt: 2025-04-01 05:25:38 -0400 (Tue, 01 Apr 2025) EndedAt: 2025-04-01 05:26:49 -0400 (Tue, 01 Apr 2025) EllapsedTime: 70.8 seconds RetCode: 0 Status: OK CheckDir: rpx.Rcheck Warnings: 0