Package: rprimer Version: 1.10.0 Command: /home/biocbuild/R/R/bin/R CMD INSTALL rprimer StartedAt: 2025-03-31 20:46:36 -0000 (Mon, 31 Mar 2025) EndedAt: 2025-03-31 20:47:01 -0000 (Mon, 31 Mar 2025) EllapsedTime: 24.3 seconds RetCode: 0 Status: OK