Package: rprimer Version: 1.10.0 Command: /Library/Frameworks/R.framework/Resources/bin/R CMD INSTALL rprimer StartedAt: 2025-03-31 16:54:30 -0400 (Mon, 31 Mar 2025) EndedAt: 2025-03-31 16:54:49 -0400 (Mon, 31 Mar 2025) EllapsedTime: 19.4 seconds RetCode: 0 Status: OK