Package: rols Version: 3.2.0 Command: /home/biocbuild/R/R/bin/R CMD INSTALL rols StartedAt: 2025-03-31 20:17:38 -0000 (Mon, 31 Mar 2025) EndedAt: 2025-03-31 20:17:58 -0000 (Mon, 31 Mar 2025) EllapsedTime: 19.7 seconds RetCode: 0 Status: OK