Package: rols Version: 3.2.0 Command: /Library/Frameworks/R.framework/Resources/bin/R CMD check --install=check:rols.install-out.txt --library=/Library/Frameworks/R.framework/Resources/library --no-vignettes --timings rols_3.2.0.tar.gz StartedAt: 2025-04-02 06:44:04 -0400 (Wed, 02 Apr 2025) EndedAt: 2025-04-02 06:45:40 -0400 (Wed, 02 Apr 2025) EllapsedTime: 95.8 seconds RetCode: 0 Status: OK CheckDir: rols.Rcheck Warnings: 0