Package: rnaseqcomp Version: 1.36.0 Command: /home/biocbuild/bbs-3.20-bioc/R/bin/R CMD check --install=check:rnaseqcomp.install-out.txt --library=/home/biocbuild/bbs-3.20-bioc/R/site-library --timings rnaseqcomp_1.36.0.tar.gz StartedAt: 2025-04-01 01:38:59 -0400 (Tue, 01 Apr 2025) EndedAt: 2025-04-01 01:39:41 -0400 (Tue, 01 Apr 2025) EllapsedTime: 42.1 seconds RetCode: 0 Status: OK CheckDir: rnaseqcomp.Rcheck Warnings: 0