Package: rnaEditr Version: 1.16.0 Command: /home/biocbuild/R/R/bin/R CMD check --install=check:rnaEditr.install-out.txt --library=/home/biocbuild/R/R/site-library --no-vignettes --timings rnaEditr_1.16.0.tar.gz StartedAt: 2025-04-01 10:04:44 -0000 (Tue, 01 Apr 2025) EndedAt: 2025-04-01 10:10:09 -0000 (Tue, 01 Apr 2025) EllapsedTime: 325.4 seconds RetCode: 0 Status: WARNINGS CheckDir: rnaEditr.Rcheck Warnings: 1