Package: rnaEditr Version: 1.16.0 Command: F:\biocbuild\bbs-3.20-bioc\R\bin\R.exe CMD INSTALL rnaEditr StartedAt: 2025-03-31 16:42:07 -0400 (Mon, 31 Mar 2025) EndedAt: 2025-03-31 16:42:58 -0400 (Mon, 31 Mar 2025) EllapsedTime: 51.6 seconds RetCode: 0 Status: OK