Package: rnaEditr Version: 1.16.0 Command: /Library/Frameworks/R.framework/Resources/bin/R CMD check --install=check:rnaEditr.install-out.txt --library=/Library/Frameworks/R.framework/Resources/library --no-vignettes --timings rnaEditr_1.16.0.tar.gz StartedAt: 2025-04-02 06:29:47 -0400 (Wed, 02 Apr 2025) EndedAt: 2025-04-02 06:34:50 -0400 (Wed, 02 Apr 2025) EllapsedTime: 303.0 seconds RetCode: 0 Status: WARNINGS CheckDir: rnaEditr.Rcheck Warnings: 1