Package: rmspc Version: 1.12.0 Command: F:\biocbuild\bbs-3.20-bioc\R\bin\R.exe CMD INSTALL rmspc StartedAt: 2025-03-31 16:24:09 -0400 (Mon, 31 Mar 2025) EndedAt: 2025-03-31 16:24:41 -0400 (Mon, 31 Mar 2025) EllapsedTime: 31.9 seconds RetCode: 0 Status: OK