Package: rmspc Version: 1.12.0 Command: /home/biocbuild/bbs-3.20-bioc/R/bin/R CMD INSTALL rmspc StartedAt: 2025-03-31 15:29:01 -0400 (Mon, 31 Mar 2025) EndedAt: 2025-03-31 15:29:28 -0400 (Mon, 31 Mar 2025) EllapsedTime: 27.4 seconds RetCode: 0 Status: OK