Package: rmspc Version: 1.12.0 Command: /Library/Frameworks/R.framework/Resources/bin/R CMD build --keep-empty-dirs --no-resave-data rmspc StartedAt: 2025-04-01 06:22:08 -0400 (Tue, 01 Apr 2025) EndedAt: 2025-04-01 06:24:00 -0400 (Tue, 01 Apr 2025) EllapsedTime: 111.8 seconds RetCode: 0 Status: OK PackageFile: rmspc_1.12.0.tar.gz PackageFileSize: 2.129 MiB