Package: rmelting Version: 1.22.0 Command: /Library/Frameworks/R.framework/Resources/bin/R CMD INSTALL rmelting StartedAt: 2025-03-31 15:09:22 -0400 (Mon, 31 Mar 2025) EndedAt: 2025-03-31 15:09:49 -0400 (Mon, 31 Mar 2025) EllapsedTime: 26.2 seconds RetCode: 0 Status: OK