Package: rmelting Version: 1.22.0 Command: /Library/Frameworks/R.framework/Resources/bin/R CMD build --keep-empty-dirs --no-resave-data rmelting StartedAt: 2025-04-01 06:21:30 -0400 (Tue, 01 Apr 2025) EndedAt: 2025-04-01 06:22:08 -0400 (Tue, 01 Apr 2025) EllapsedTime: 38.2 seconds RetCode: 0 Status: OK PackageFile: rmelting_1.22.0.tar.gz PackageFileSize: 2.489 MiB