Package: rifiComparative Version: 1.6.0 Command: /Library/Frameworks/R.framework/Resources/bin/R CMD INSTALL rifiComparative StartedAt: 2025-03-31 17:03:16 -0400 (Mon, 31 Mar 2025) EndedAt: 2025-03-31 17:03:54 -0400 (Mon, 31 Mar 2025) EllapsedTime: 38.6 seconds RetCode: 0 Status: OK