Package: rifi Version: 1.10.0 Command: /Library/Frameworks/R.framework/Resources/bin/R CMD build --keep-empty-dirs --no-resave-data rifi StartedAt: 2025-03-31 21:26:35 -0400 (Mon, 31 Mar 2025) EndedAt: 2025-03-31 21:29:55 -0400 (Mon, 31 Mar 2025) EllapsedTime: 200.3 seconds RetCode: 0 Status: OK PackageFile: rifi_1.10.0.tar.gz PackageFileSize: 7.197 MiB