Package: ribosomeProfilingQC Version: 1.18.0 Command: /Library/Frameworks/R.framework/Resources/bin/R CMD INSTALL ribosomeProfilingQC StartedAt: 2025-03-31 17:00:41 -0400 (Mon, 31 Mar 2025) EndedAt: 2025-03-31 17:01:43 -0400 (Mon, 31 Mar 2025) EllapsedTime: 62.2 seconds RetCode: 0 Status: OK