Package: riboSeqR Version: 1.40.0 Command: /Library/Frameworks/R.framework/Resources/bin/R CMD check --install=check:riboSeqR.install-out.txt --library=/Library/Frameworks/R.framework/Resources/library --no-vignettes --timings riboSeqR_1.40.0.tar.gz StartedAt: 2025-04-01 08:03:42 -0400 (Tue, 01 Apr 2025) EndedAt: 2025-04-01 08:07:33 -0400 (Tue, 01 Apr 2025) EllapsedTime: 230.4 seconds RetCode: 0 Status: OK CheckDir: riboSeqR.Rcheck Warnings: 0