Package: riboSeqR Version: 1.40.0 Command: /Library/Frameworks/R.framework/Resources/bin/R CMD build --keep-empty-dirs --no-resave-data riboSeqR StartedAt: 2025-03-31 21:26:14 -0400 (Mon, 31 Mar 2025) EndedAt: 2025-03-31 21:27:16 -0400 (Mon, 31 Mar 2025) EllapsedTime: 61.8 seconds RetCode: 0 Status: OK PackageFile: riboSeqR_1.40.0.tar.gz PackageFileSize: 3.648 MiB