Package: rhdf5client Version: 1.28.0 Command: /home/biocbuild/R/R/bin/R CMD INSTALL rhdf5client StartedAt: 2025-03-31 20:18:32 -0000 (Mon, 31 Mar 2025) EndedAt: 2025-03-31 20:18:55 -0000 (Mon, 31 Mar 2025) EllapsedTime: 23.0 seconds RetCode: 0 Status: OK