Package: rhdf5client Version: 1.28.0 Command: /Library/Frameworks/R.framework/Resources/bin/R CMD check --install=check:rhdf5client.install-out.txt --library=/Library/Frameworks/R.framework/Resources/library --no-vignettes --timings rhdf5client_1.28.0.tar.gz StartedAt: 2025-04-02 06:08:17 -0400 (Wed, 02 Apr 2025) EndedAt: 2025-04-02 06:10:42 -0400 (Wed, 02 Apr 2025) EllapsedTime: 144.9 seconds RetCode: 0 Status: OK CheckDir: rhdf5client.Rcheck Warnings: 0