Package: rhdf5client Version: 1.28.0 Command: /Library/Frameworks/R.framework/Resources/bin/R CMD build --keep-empty-dirs --no-resave-data rhdf5client StartedAt: 2025-04-01 06:11:02 -0400 (Tue, 01 Apr 2025) EndedAt: 2025-04-01 06:11:39 -0400 (Tue, 01 Apr 2025) EllapsedTime: 36.4 seconds RetCode: 0 Status: OK PackageFile: rhdf5client_1.28.0.tar.gz PackageFileSize: 531.3 KiB