Package: rhdf5 Version: 2.50.2 Command: F:\biocbuild\bbs-3.20-bioc\R\bin\R.exe CMD INSTALL rhdf5 StartedAt: 2025-03-31 15:25:00 -0400 (Mon, 31 Mar 2025) EndedAt: 2025-03-31 15:26:39 -0400 (Mon, 31 Mar 2025) EllapsedTime: 99.1 seconds RetCode: 0 Status: OK