Package: rhdf5 Version: 2.50.2 Command: /home/biocbuild/bbs-3.20-bioc/R/bin/R CMD INSTALL rhdf5 StartedAt: 2025-03-31 15:14:00 -0400 (Mon, 31 Mar 2025) EndedAt: 2025-03-31 15:14:10 -0400 (Mon, 31 Mar 2025) EllapsedTime: 10.6 seconds RetCode: 0 Status: OK