Package: rgsepd Version: 1.38.0 Command: rm -rf rgsepd.buildbin-libdir && mkdir rgsepd.buildbin-libdir && F:\biocbuild\bbs-3.20-bioc\R\bin\R.exe CMD INSTALL --build --library=rgsepd.buildbin-libdir rgsepd_1.38.0.tar.gz StartedAt: 2025-04-01 09:02:08 -0400 (Tue, 01 Apr 2025) EndedAt: 2025-04-01 09:05:20 -0400 (Tue, 01 Apr 2025) EllapsedTime: 191.2 seconds RetCode: 0 Status: OK PackageFile: rgsepd_1.38.0.zip PackageFileSize: 1.284 MiB