Package: rgsepd Version: 1.38.0 Command: /Library/Frameworks/R.framework/Resources/bin/R CMD INSTALL rgsepd StartedAt: 2025-03-31 15:48:55 -0400 (Mon, 31 Mar 2025) EndedAt: 2025-03-31 15:52:35 -0400 (Mon, 31 Mar 2025) EllapsedTime: 220.1 seconds RetCode: 0 Status: OK