Package: rgoslin Version: 1.10.0 Command: /home/biocbuild/bbs-3.20-bioc/R/bin/R CMD INSTALL rgoslin StartedAt: 2025-03-31 16:01:28 -0400 (Mon, 31 Mar 2025) EndedAt: 2025-03-31 16:04:01 -0400 (Mon, 31 Mar 2025) EllapsedTime: 152.1 seconds RetCode: 0 Status: OK