Package: rgoslin Version: 1.10.0 Command: /home/biocbuild/bbs-3.20-bioc/R/bin/R CMD build --keep-empty-dirs --no-resave-data --md5 rgoslin StartedAt: 2025-03-31 18:46:53 -0400 (Mon, 31 Mar 2025) EndedAt: 2025-03-31 18:49:52 -0400 (Mon, 31 Mar 2025) EllapsedTime: 179.2 seconds RetCode: 0 Status: OK PackageFile: rgoslin_1.10.0.tar.gz PackageFileSize: 733.6 KiB