Package: rgoslin Version: 1.10.0 Command: /Library/Frameworks/R.framework/Resources/bin/R CMD build --keep-empty-dirs --no-resave-data rgoslin StartedAt: 2025-03-31 21:24:41 -0400 (Mon, 31 Mar 2025) EndedAt: 2025-03-31 21:32:14 -0400 (Mon, 31 Mar 2025) EllapsedTime: 452.7 seconds RetCode: 0 Status: OK PackageFile: rgoslin_1.10.0.tar.gz PackageFileSize: 1.465 MiB