Package: rgoslin Version: 1.10.0 Command: rm -rf rgoslin.buildbin-libdir && mkdir rgoslin.buildbin-libdir && /Users/biocbuild/BBS/utils/build-universal.sh rgoslin_1.10.0.tar.gz /Library/Frameworks/R.framework/Resources/bin/R rgoslin.buildbin-libdir StartedAt: 2025-04-01 12:34:57 -0400 (Tue, 01 Apr 2025) EndedAt: 2025-04-01 12:41:50 -0400 (Tue, 01 Apr 2025) EllapsedTime: 412.9 seconds RetCode: 0 Status: OK PackageFile: rgoslin_1.10.0.tgz PackageFileSize: 1.174 MiB