Package: rfaRm Version: 1.18.0 Command: rm -rf rfaRm.buildbin-libdir && mkdir rfaRm.buildbin-libdir && F:\biocbuild\bbs-3.20-bioc\R\bin\R.exe CMD INSTALL --build --library=rfaRm.buildbin-libdir rfaRm_1.18.0.tar.gz StartedAt: 2025-04-01 09:01:38 -0400 (Tue, 01 Apr 2025) EndedAt: 2025-04-01 09:02:21 -0400 (Tue, 01 Apr 2025) EllapsedTime: 43.6 seconds RetCode: 1 Status: ERROR PackageFile: None PackageFileSize: NA