Package: rfaRm Version: 1.18.0 Command: /Library/Frameworks/R.framework/Resources/bin/R CMD INSTALL rfaRm StartedAt: 2025-03-31 16:29:45 -0400 (Mon, 31 Mar 2025) EndedAt: 2025-03-31 16:30:16 -0400 (Mon, 31 Mar 2025) EllapsedTime: 31.4 seconds RetCode: 0 Status: OK