Package: rfaRm Version: 1.18.0 Command: /Library/Frameworks/R.framework/Resources/bin/R CMD check --install=check:rfaRm.install-out.txt --library=/Library/Frameworks/R.framework/Resources/library --no-vignettes --timings rfaRm_1.18.0.tar.gz StartedAt: 2025-04-01 07:57:23 -0400 (Tue, 01 Apr 2025) EndedAt: 2025-04-01 08:01:26 -0400 (Tue, 01 Apr 2025) EllapsedTime: 243.0 seconds RetCode: 0 Status: OK CheckDir: rfaRm.Rcheck Warnings: 0