Package: rfaRm Version: 1.18.0 Command: /Library/Frameworks/R.framework/Resources/bin/R CMD build --keep-empty-dirs --no-resave-data rfaRm StartedAt: 2025-04-01 06:07:36 -0400 (Tue, 01 Apr 2025) EndedAt: 2025-04-01 06:08:14 -0400 (Tue, 01 Apr 2025) EllapsedTime: 37.3 seconds RetCode: 0 Status: OK PackageFile: rfaRm_1.18.0.tar.gz PackageFileSize: 561.1 KiB